BEGIN:VCALENDAR
VERSION:2.0
PRODID:-//Lucky C Auctions - ECPv4.6.9//NONSGML v1.0//EN
CALSCALE:GREGORIAN
METHOD:PUBLISH
X-WR-CALNAME:Lucky C Auctions
X-ORIGINAL-URL:http://www.luckycauctions.com
X-WR-CALDESC:Events for Lucky C Auctions
BEGIN:VEVENT
DTSTART;TZID=America/Denver:20180428T080000
DTEND;TZID=America/Denver:20180509T190000
DTSTAMP:20260425T114928
CREATED:20180428T131953Z
LAST-MODIFIED:20180428T131953Z
UID:701-1524902400-1525892400@www.luckycauctions.com
SUMMARY:Online Auction 5/9
DESCRIPTION:Begins Closing May 9th at 7PM \nPreview: May 9th 12-6PM \nPickup: May 10th 12-7PM \n
URL:http://www.luckycauctions.com/auction/online-auction-5-9/
LOCATION:156 S 5th St (Hwy 95)\, Wilder\, ID\, 83676\, United States
END:VEVENT
END:VCALENDAR