BEGIN:VCALENDAR
VERSION:2.0
PRODID:-//Lucky C Auctions - ECPv4.6.9//NONSGML v1.0//EN
CALSCALE:GREGORIAN
METHOD:PUBLISH
X-WR-CALNAME:Lucky C Auctions
X-ORIGINAL-URL:http://www.luckycauctions.com
X-WR-CALDESC:Events for Lucky C Auctions
BEGIN:VEVENT
DTSTART;TZID=America/Denver:20160426T080000
DTEND;TZID=America/Denver:20160511T190000
DTSTAMP:20260422T055318
CREATED:20160427T034710Z
LAST-MODIFIED:20160427T034710Z
UID:339-1461657600-1462993200@www.luckycauctions.com
SUMMARY:Online Auction 5/11
DESCRIPTION:\nMay 11th Begins Closing at 7PM\n\n\n \nPreview Date/Time:    May 11th 12-6PM\n\n\nCheckout Date/Time:  May 12th 12-7PM\n\n\n \nLocation: 220 B Ave Wilder\, ID 83676\n\n\n \nBuyers Premium: 13%BP\, 10% for cash/check\n\n
URL:http://www.luckycauctions.com/auction/online-auction-511/
LOCATION:156 S 5th St (Hwy 95)\, Wilder\, ID\, 83676\, United States
END:VEVENT
END:VCALENDAR