BEGIN:VCALENDAR
VERSION:2.0
PRODID:-//Lucky C Auctions - ECPv4.6.9//NONSGML v1.0//EN
CALSCALE:GREGORIAN
METHOD:PUBLISH
X-WR-CALNAME:Lucky C Auctions
X-ORIGINAL-URL:http://www.luckycauctions.com
X-WR-CALDESC:Events for Lucky C Auctions
BEGIN:VEVENT
DTSTART;TZID=America/Denver:20170501T080000
DTEND;TZID=America/Denver:20170517T190000
DTSTAMP:20260424T232055
CREATED:20170502T025138Z
LAST-MODIFIED:20170502T025138Z
UID:549-1493625600-1495047600@www.luckycauctions.com
SUMMARY:Online Auction 5/17
DESCRIPTION:\n\n\n \nBegins Closing May 17th at 7PM\n\n\nPreview Date/Time\nMay 17th 12-6PM\n\n\nCheckout Date/Time\nMay 18th 12-7PM\n\n\nLocation\n156 S 5th St (Hwy 95)\n Wilder\, ID 83676\n\n\n\n  \n
URL:http://www.luckycauctions.com/auction/online-auction-517/
END:VEVENT
END:VCALENDAR