BEGIN:VCALENDAR
VERSION:2.0
PRODID:-//Lucky C Auctions - ECPv4.6.9//NONSGML v1.0//EN
CALSCALE:GREGORIAN
METHOD:PUBLISH
X-WR-CALNAME:Lucky C Auctions
X-ORIGINAL-URL:http://www.luckycauctions.com
X-WR-CALDESC:Events for Lucky C Auctions
BEGIN:VEVENT
DTSTART;TZID=America/Denver:20200528T080000
DTEND;TZID=America/Denver:20200610T190000
DTSTAMP:20260424T112606
CREATED:20200529T033706Z
LAST-MODIFIED:20200529T033706Z
UID:932-1590652800-1591815600@www.luckycauctions.com
SUMMARY:Online Auction 6/10
DESCRIPTION:Online Auction 6/10: \nBegins Closing June 10th at 7PM \nPreview: June 10th 12-6PM \nPickup: June 11th 12-7PM \nLocation: 156 S 5th St(Hwy 95) Wilder  \n
URL:http://www.luckycauctions.com/auction/online-auction-6-10/
END:VEVENT
END:VCALENDAR