BEGIN:VCALENDAR
VERSION:2.0
PRODID:-//Lucky C Auctions - ECPv4.6.9//NONSGML v1.0//EN
CALSCALE:GREGORIAN
METHOD:PUBLISH
X-WR-CALNAME:Lucky C Auctions
X-ORIGINAL-URL:http://www.luckycauctions.com
X-WR-CALDESC:Events for Lucky C Auctions
BEGIN:VEVENT
DTSTART;TZID=America/Denver:20170601T080000
DTEND;TZID=America/Denver:20170614T190000
DTSTAMP:20260424T230612
CREATED:20170605T040521Z
LAST-MODIFIED:20170605T040521Z
UID:558-1496304000-1497466800@www.luckycauctions.com
SUMMARY:Online Auction 6/14
DESCRIPTION:\n\n\nBegins Closing June 14th at 7PM\n\n\nPreview Date/Time\nJune 14th 12-6PM\n\n\nCheckout Date/Time\nJune 15th 12-7PM\n\n\nLocation\n156 S 5th St (Hwy 95)\n Wilder\, ID 83676\n\n\n\n  \n
URL:http://www.luckycauctions.com/auction/online-auction-614/
LOCATION:156 S 5th St (Hwy 95)\, Wilder\, ID\, 83676\, United States
END:VEVENT
END:VCALENDAR