BEGIN:VCALENDAR
VERSION:2.0
PRODID:-//Lucky C Auctions - ECPv4.6.9//NONSGML v1.0//EN
CALSCALE:GREGORIAN
METHOD:PUBLISH
X-WR-CALNAME:Lucky C Auctions
X-ORIGINAL-URL:http://www.luckycauctions.com
X-WR-CALDESC:Events for Lucky C Auctions
BEGIN:VEVENT
DTSTART;TZID=America/Denver:20160608T080000
DTEND;TZID=America/Denver:20160622T190000
DTSTAMP:20260421T232356
CREATED:20160608T232107Z
LAST-MODIFIED:20160608T232107Z
UID:359-1465372800-1466622000@www.luckycauctions.com
SUMMARY:Online Auction 6/22
DESCRIPTION:Begins Closing at 7PM \n\nPreview Date/Time:     June 22nd 12-6PM\n\n\nCheckout Date/Time:  June 23rd 12-7PM\n\n\n \nLocation:  220 B Ave Wilder\, ID 83676\n\n
URL:http://www.luckycauctions.com/auction/online-auction-622/
LOCATION:156 S 5th St (Hwy 95)\, Wilder\, ID\, 83676\, United States
END:VEVENT
END:VCALENDAR