BEGIN:VCALENDAR
VERSION:2.0
PRODID:-//Lucky C Auctions - ECPv4.6.9//NONSGML v1.0//EN
CALSCALE:GREGORIAN
METHOD:PUBLISH
X-WR-CALNAME:Lucky C Auctions
X-ORIGINAL-URL:http://www.luckycauctions.com
X-WR-CALDESC:Events for Lucky C Auctions
BEGIN:VEVENT
DTSTART;TZID=America/Denver:20160602T080000
DTEND;TZID=America/Denver:20160608T190000
DTSTAMP:20260422T005623
CREATED:20160602T144209Z
LAST-MODIFIED:20160602T144209Z
UID:354-1464854400-1465412400@www.luckycauctions.com
SUMMARY:Online Auction 6/8
DESCRIPTION:\nBegins Closing June 8th at 7PM\n\n\n \nPreview Date/Time:     June 8th 12-6PM\n\n\nCheckout Date/Time:  June 9th 12-7PM\n\n\n \nLocation:  220 B Ave Wilder\, ID 83676\n\n\n \nBuyer Premium:  13%BP\, 10% for cash/check\n\n
URL:http://www.luckycauctions.com/auction/online-auction-68/
LOCATION:156 S 5th St (Hwy 95)\, Wilder\, ID\, 83676\, United States
END:VEVENT
END:VCALENDAR