BEGIN:VCALENDAR
VERSION:2.0
PRODID:-//Lucky C Auctions - ECPv4.6.9//NONSGML v1.0//EN
CALSCALE:GREGORIAN
METHOD:PUBLISH
X-WR-CALNAME:Lucky C Auctions
X-ORIGINAL-URL:http://www.luckycauctions.com
X-WR-CALDESC:Events for Lucky C Auctions
BEGIN:VEVENT
DTSTART;TZID=America/Denver:20230705T080000
DTEND;TZID=America/Denver:20230712T190000
DTSTAMP:20260423T231950
CREATED:20230706T023052Z
LAST-MODIFIED:20230706T024439Z
UID:1256-1688544000-1689188400@www.luckycauctions.com
SUMMARY:Online Auction 7/12
DESCRIPTION:Online Auction 7/12: \nAuction Begins Closing July 12th at 7PM \nPreview: July 12th 12-6PM\nPickup: July 13th 12-7PM \nLocation: 156 S 5th St Wilder\, ID \n
URL:http://www.luckycauctions.com/auction/online-auction-7-12/
END:VEVENT
END:VCALENDAR