BEGIN:VCALENDAR
VERSION:2.0
PRODID:-//Lucky C Auctions - ECPv4.6.9//NONSGML v1.0//EN
CALSCALE:GREGORIAN
METHOD:PUBLISH
X-WR-CALNAME:Lucky C Auctions
X-ORIGINAL-URL:http://www.luckycauctions.com
X-WR-CALDESC:Events for Lucky C Auctions
BEGIN:VEVENT
DTSTART;VALUE=DATE:20210713
DTEND;VALUE=DATE:20210722
DTSTAMP:20260424T070115
CREATED:20210714T040601Z
LAST-MODIFIED:20210714T040601Z
UID:1041-1626134400-1626911999@www.luckycauctions.com
SUMMARY:Online Auction 7/21
DESCRIPTION:Online Auction 7/21: \nAuction Begins Closing July 21st at 7PM \nPreview: July 21st 12-6PM \nPickup: July 22nd 12-7PM \nLocation: 156 S 5th St Wilder\, ID \n
URL:http://www.luckycauctions.com/auction/online-auction-7-21/
END:VEVENT
END:VCALENDAR