BEGIN:VCALENDAR
VERSION:2.0
PRODID:-//Lucky C Auctions - ECPv4.6.9//NONSGML v1.0//EN
CALSCALE:GREGORIAN
METHOD:PUBLISH
X-WR-CALNAME:Lucky C Auctions
X-ORIGINAL-URL:http://www.luckycauctions.com
X-WR-CALDESC:Events for Lucky C Auctions
BEGIN:VEVENT
DTSTART;TZID=America/Denver:20200720T080000
DTEND;TZID=America/Denver:20200729T190000
DTSTAMP:20260424T095656
CREATED:20200721T040711Z
LAST-MODIFIED:20200721T041339Z
UID:949-1595232000-1596049200@www.luckycauctions.com
SUMMARY:Online Auction 7/29
DESCRIPTION:Online Auction 7/29: \nAuction Begins Closing July 29th at 7PM \nPreview: July 29th 12-6PM \nPickup: July 30th 12-7PM \nLocation: 156 S 5th St (HWY 95) Wilder  \n
URL:http://www.luckycauctions.com/auction/online-auction-7-29/
END:VEVENT
END:VCALENDAR