BEGIN:VCALENDAR
VERSION:2.0
PRODID:-//Lucky C Auctions - ECPv4.6.9//NONSGML v1.0//EN
CALSCALE:GREGORIAN
METHOD:PUBLISH
X-WR-CALNAME:Lucky C Auctions
X-ORIGINAL-URL:http://www.luckycauctions.com
X-WR-CALDESC:Events for Lucky C Auctions
BEGIN:VEVENT
DTSTART;TZID=America/Denver:20160710T080000
DTEND;TZID=America/Denver:20160720T190000
DTSTAMP:20260421T201308
CREATED:20160711T000417Z
LAST-MODIFIED:20160711T000417Z
UID:376-1468137600-1469041200@www.luckycauctions.com
SUMMARY:Online Auction 7/20
DESCRIPTION:\nBegins Closing at 7PM on July 20th\n\n\n \n \nPreview:   July 20th 12-6PM\n\n\n \nCheckout Date/Time:   July 21st 12-7PM\n\n\n \n \nLocation:  156 S 5th St (Hwy 95) Wilder\, ID 83676\n\n
URL:http://www.luckycauctions.com/auction/online-auction-720/
LOCATION:156 S 5th St (Hwy 95)\, Wilder\, ID\, 83676\, United States
END:VEVENT
END:VCALENDAR