BEGIN:VCALENDAR
VERSION:2.0
PRODID:-//Lucky C Auctions - ECPv4.6.9//NONSGML v1.0//EN
CALSCALE:GREGORIAN
METHOD:PUBLISH
X-WR-CALNAME:Lucky C Auctions
X-ORIGINAL-URL:http://www.luckycauctions.com
X-WR-CALDESC:Events for Lucky C Auctions
BEGIN:VEVENT
DTSTART;TZID=America/Denver:20170711T080000
DTEND;TZID=America/Denver:20170726T190000
DTSTAMP:20260424T214323
CREATED:20170712T031953Z
LAST-MODIFIED:20170712T031953Z
UID:574-1499760000-1501095600@www.luckycauctions.com
SUMMARY:Online Auction 7/26
DESCRIPTION:\n\n\nBegins Closing July 26th at 7PM\n\n\nPreview Date/Time\nJuly 26th 12-6PM\n\n\nCheckout Date/Time\nJuly 27th at 12-7PM\n\n\nLocation\n156 S 5th St (Hwy 95)\n Wilder\, ID 83676\n\n\n\n  \n
URL:http://www.luckycauctions.com/auction/online-auction-726/
LOCATION:156 S 5th St (Hwy 95)\, Wilder\, ID\, 83676\, United States
END:VEVENT
END:VCALENDAR