BEGIN:VCALENDAR
VERSION:2.0
PRODID:-//Lucky C Auctions - ECPv4.6.9//NONSGML v1.0//EN
CALSCALE:GREGORIAN
METHOD:PUBLISH
X-WR-CALNAME:Lucky C Auctions
X-ORIGINAL-URL:http://www.luckycauctions.com
X-WR-CALDESC:Events for Lucky C Auctions
BEGIN:VEVENT
DTSTART;TZID=America/Denver:20160623T080000
DTEND;TZID=America/Denver:20160706T190000
DTSTAMP:20260421T213334
CREATED:20160702T050139Z
LAST-MODIFIED:20160702T050139Z
UID:369-1466668800-1467831600@www.luckycauctions.com
SUMMARY:Online Auction 7/6
DESCRIPTION:\nBegins Closing July 6th at 7PM\n\n\n \nPreview Date/Time\nJuly 6th 12-6PM\n\n\n \nCheckout Date/Time\nJuly 7th 12-7PM\n\n\n \nLocation:  156 S 5th St (Hwy 95) Wilder\, ID 83676\n\n
URL:http://www.luckycauctions.com/auction/online-auction-76/
LOCATION:156 S 5th St (Hwy 95)\, Wilder\, ID\, 83676\, United States
END:VEVENT
END:VCALENDAR