BEGIN:VCALENDAR
VERSION:2.0
PRODID:-//Lucky C Auctions - ECPv4.6.9//NONSGML v1.0//EN
CALSCALE:GREGORIAN
METHOD:PUBLISH
X-WR-CALNAME:Lucky C Auctions
X-ORIGINAL-URL:http://www.luckycauctions.com
X-WR-CALDESC:Events for Lucky C Auctions
BEGIN:VEVENT
DTSTART;TZID=America/Denver:20200803T080000
DTEND;TZID=America/Denver:20200812T190000
DTSTAMP:20260424T101743
CREATED:20200804T043746Z
LAST-MODIFIED:20200804T043746Z
UID:953-1596441600-1597258800@www.luckycauctions.com
SUMMARY:Online Auction 8/12
DESCRIPTION:Online Auction 8/12: \nAuction begins closing Aug 12th at 7PM \nPreview: Aug 12th 12-6PM \nPickup: Aug 13th 12-7PM \n
URL:http://www.luckycauctions.com/auction/online-auction-8-12/
END:VEVENT
END:VCALENDAR