BEGIN:VCALENDAR
VERSION:2.0
PRODID:-//Lucky C Auctions - ECPv4.6.9//NONSGML v1.0//EN
CALSCALE:GREGORIAN
METHOD:PUBLISH
X-WR-CALNAME:Lucky C Auctions
X-ORIGINAL-URL:http://www.luckycauctions.com
X-WR-CALDESC:Events for Lucky C Auctions
BEGIN:VEVENT
DTSTART;TZID=America/Denver:20240805T080000
DTEND;TZID=America/Denver:20240814T190000
DTSTAMP:20260423T155436
CREATED:20240806T040037Z
LAST-MODIFIED:20240806T040037Z
UID:1358-1722844800-1723662000@www.luckycauctions.com
SUMMARY:Online Auction 8/14
DESCRIPTION:Online Auction 8/14 \nAuction Begins Closing Aug 14th at 7PM \nPreview: Aug 14th 12-5PM \nPickup: Aug 15th 11 to 530\, Aug 16th 10am to 1pm \nLocation: 156 S 5th St Wilder\, ID  \n
URL:http://www.luckycauctions.com/auction/online-auction-8-14/
END:VEVENT
END:VCALENDAR