BEGIN:VCALENDAR
VERSION:2.0
PRODID:-//Lucky C Auctions - ECPv4.6.9//NONSGML v1.0//EN
CALSCALE:GREGORIAN
METHOD:PUBLISH
X-WR-CALNAME:Lucky C Auctions
X-ORIGINAL-URL:http://www.luckycauctions.com
X-WR-CALDESC:Events for Lucky C Auctions
BEGIN:VEVENT
DTSTART;TZID=America/Denver:20210809T080000
DTEND;TZID=America/Denver:20210818T190000
DTSTAMP:20260424T053354
CREATED:20210810T032100Z
LAST-MODIFIED:20210810T032100Z
UID:1085-1628496000-1629313200@www.luckycauctions.com
SUMMARY:Online Auction 8/18
DESCRIPTION:Online Auction 8/18: \nAuction Begins Closing Aug 18th at 7PM \nPreview: Aug 18th 12-6PM \nPickup: Aug 19th 12-7PM \n
URL:http://www.luckycauctions.com/auction/online-auction-8-18/
END:VEVENT
END:VCALENDAR