BEGIN:VCALENDAR
VERSION:2.0
PRODID:-//Lucky C Auctions - ECPv4.6.9//NONSGML v1.0//EN
CALSCALE:GREGORIAN
METHOD:PUBLISH
X-WR-CALNAME:Lucky C Auctions
X-ORIGINAL-URL:http://www.luckycauctions.com
X-WR-CALDESC:Events for Lucky C Auctions
BEGIN:VEVENT
DTSTART;TZID=America/Denver:20230810T080000
DTEND;TZID=America/Denver:20230823T170000
DTSTAMP:20260423T192601
CREATED:20230810T132240Z
LAST-MODIFIED:20230810T132240Z
UID:1268-1691654400-1692810000@www.luckycauctions.com
SUMMARY:Online Auction 8/23
DESCRIPTION:Online Auction 8/23 \nAuction Begins Closing Aug 23rd at 7PM \nPreview: Aug 23rd 12-6PM \nPickup: Aug 24th 12-7PM\nLocation: 156 S 5th St Wilder\, ID  \n  \n
URL:http://www.luckycauctions.com/auction/online-auction-8-23/
END:VEVENT
END:VCALENDAR