BEGIN:VCALENDAR
VERSION:2.0
PRODID:-//Lucky C Auctions - ECPv4.6.9//NONSGML v1.0//EN
CALSCALE:GREGORIAN
METHOD:PUBLISH
X-WR-CALNAME:Lucky C Auctions
X-ORIGINAL-URL:http://www.luckycauctions.com
X-WR-CALDESC:Events for Lucky C Auctions
BEGIN:VEVENT
DTSTART;TZID=America/Denver:20170822T090000
DTEND;TZID=America/Denver:20170823T190000
DTSTAMP:20260424T214446
CREATED:20170819T040053Z
LAST-MODIFIED:20170819T040350Z
UID:589-1503392400-1503514800@www.luckycauctions.com
SUMMARY:Online Auction 8/23
DESCRIPTION:Begins Closing Aug 23rd at 7PM Preview Date/Time Aug 23rd 12-6PM Checkout Date/Time Aug24th 12-7PM Location 156 S 5th St (Hwy 95) Wilder\, ID 83676 \n
URL:http://www.luckycauctions.com/auction/online-auction-823/
LOCATION:156 S 5th St (Hwy 95)\, Wilder\, ID\, 83676\, United States
END:VEVENT
END:VCALENDAR