BEGIN:VCALENDAR
VERSION:2.0
PRODID:-//Lucky C Auctions - ECPv4.6.9//NONSGML v1.0//EN
CALSCALE:GREGORIAN
METHOD:PUBLISH
X-WR-CALNAME:Lucky C Auctions
X-ORIGINAL-URL:http://www.luckycauctions.com
X-WR-CALDESC:Events for Lucky C Auctions
BEGIN:VEVENT
DTSTART;TZID=America/Denver:20210907T080000
DTEND;TZID=America/Denver:20210915T190000
DTSTAMP:20260424T053354
CREATED:20210908T012917Z
LAST-MODIFIED:20210908T012917Z
UID:1095-1631001600-1631732400@www.luckycauctions.com
SUMMARY:Online Auction 9/15
DESCRIPTION:Online Auction 9/15: \nAuction Begins Closing Sept 15th at 7PM \nPreview: Sept 15th 12-6PM\nPickup: Sept 16th 12-7PM \nLocation: 156 S 5th ST (HWY 95) Wilder\, ID  \n
URL:http://www.luckycauctions.com/auction/online-auction-9-15/
END:VEVENT
END:VCALENDAR