BEGIN:VCALENDAR
VERSION:2.0
PRODID:-//Lucky C Auctions - ECPv4.6.9//NONSGML v1.0//EN
CALSCALE:GREGORIAN
METHOD:PUBLISH
X-WR-CALNAME:Lucky C Auctions
X-ORIGINAL-URL:http://www.luckycauctions.com
X-WR-CALDESC:Events for Lucky C Auctions
BEGIN:VEVENT
DTSTART;TZID=America/Denver:20190918T080000
DTEND;TZID=America/Denver:20190918T190000
DTSTAMP:20260424T143930
CREATED:20190918T170709Z
LAST-MODIFIED:20190918T170709Z
UID:856-1568793600-1568833200@www.luckycauctions.com
SUMMARY:Online Auction 9/18
DESCRIPTION:Begins Closing Sept 18th at 7P \nPreview Sept 18th 12-6PM\nPickup: Sept 19th 12-7PM \nLocation: 156 S 5th St Wilder  \n
URL:http://www.luckycauctions.com/auction/online-auction-9-18/
END:VEVENT
END:VCALENDAR