BEGIN:VCALENDAR
VERSION:2.0
PRODID:-//Lucky C Auctions - ECPv4.6.9//NONSGML v1.0//EN
CALSCALE:GREGORIAN
METHOD:PUBLISH
X-WR-CALNAME:Lucky C Auctions
X-ORIGINAL-URL:http://www.luckycauctions.com
X-WR-CALDESC:Events for Lucky C Auctions
BEGIN:VEVENT
DTSTART;TZID=America/Denver:20230830T080000
DTEND;TZID=America/Denver:20230906T190000
DTSTAMP:20260423T192449
CREATED:20230830T125851Z
LAST-MODIFIED:20230830T125851Z
UID:1276-1693382400-1694026800@www.luckycauctions.com
SUMMARY:Online Auction 9/6
DESCRIPTION:Online Auction 9/6: \nBegins Closing Sept 6th at 7PM \nPreview: Sept 6th 12-6PM\nPickiup: Sept 7th 12-7PM\nLocation: 156 S 5th ST Wilder\, ID  \n
URL:http://www.luckycauctions.com/auction/online-auction-9-6/
END:VEVENT
END:VCALENDAR