BEGIN:VCALENDAR
VERSION:2.0
PRODID:-//Lucky C Auctions - ECPv4.6.9//NONSGML v1.0//EN
CALSCALE:GREGORIAN
METHOD:PUBLISH
X-WR-CALNAME:Lucky C Auctions
X-ORIGINAL-URL:http://www.luckycauctions.com
X-WR-CALDESC:Events for Lucky C Auctions
BEGIN:VEVENT
DTSTART;TZID=America/Denver:20160829T080000
DTEND;TZID=America/Denver:20160914T190000
DTSTAMP:20260421T200719
CREATED:20160829T011656Z
LAST-MODIFIED:20160829T011656Z
UID:398-1472457600-1473879600@www.luckycauctions.com
SUMMARY:Online Auction 9/14-Multi Estate
DESCRIPTION:\nBegins Closing Sept 14th at 7PM\n \nPreview Date/Time:     Sept 14th 12-6PM\n\n\nCheckout Date/Time:  Sept 15th 12-7PM\n\n\n \nLocation:  156 S 5th St (Hwy 95) Wilder\, ID 83676\n\n
URL:http://www.luckycauctions.com/auction/online-auction-914-multi-estate/
LOCATION:156 S 5th St (Hwy 95)\, Wilder\, ID\, 83676\, United States
END:VEVENT
END:VCALENDAR