BEGIN:VCALENDAR
VERSION:2.0
PRODID:-//Lucky C Auctions - ECPv4.6.9//NONSGML v1.0//EN
CALSCALE:GREGORIAN
METHOD:PUBLISH
X-WR-CALNAME:Lucky C Auctions
X-ORIGINAL-URL:http://www.luckycauctions.com
X-WR-CALDESC:Events for Lucky C Auctions
BEGIN:VEVENT
DTSTART;TZID=America/Denver:20170825T080000
DTEND;TZID=America/Denver:20170906T190000
DTSTAMP:20260424T214110
CREATED:20170825T230744Z
LAST-MODIFIED:20170825T230744Z
UID:599-1503648000-1504724400@www.luckycauctions.com
SUMMARY:Online Auction 9/6
DESCRIPTION:Preview: 9/6 at 12-6PM \nPickup: 9/7 at 12-7PM Only \nLocation: 156 S. 5th St. (Hwy 95) Wilder \nQuestions or to Consign: 208-740-4160 \n
URL:http://www.luckycauctions.com/auction/online-auction-96/
LOCATION:156 S 5th St (Hwy 95)\, Wilder\, ID\, 83676\, United States
END:VEVENT
END:VCALENDAR