BEGIN:VCALENDAR
VERSION:2.0
PRODID:-//Lucky C Auctions - ECPv4.6.9//NONSGML v1.0//EN
CALSCALE:GREGORIAN
METHOD:PUBLISH
X-WR-CALNAME:Lucky C Auctions
X-ORIGINAL-URL:http://www.luckycauctions.com
X-WR-CALDESC:Events for Lucky C Auctions
BEGIN:VEVENT
DTSTART;TZID=America/Denver:20160202T080000
DTEND;TZID=America/Denver:20160224T190000
DTSTAMP:20260422T090811
CREATED:20160203T014312Z
LAST-MODIFIED:20160203T014312Z
UID:297-1454400000-1456340400@www.luckycauctions.com
SUMMARY:Online Estate Auction 2/24
DESCRIPTION:Preview Date/Time:    Feb. 24th from 12-6PM Checkout Date/Time: Feb. 25th from 12-7PM \nLocation: 220 B Ave Wilder\, ID 83676 \nBuyers Premium: 13% BP\, 10% for cash/check  \n
URL:http://www.luckycauctions.com/auction/online-estate-auction-224/
LOCATION:156 S 5th St (Hwy 95)\, Wilder\, ID\, 83676\, United States
END:VEVENT
END:VCALENDAR