BEGIN:VCALENDAR
VERSION:2.0
PRODID:-//Lucky C Auctions - ECPv4.6.9//NONSGML v1.0//EN
CALSCALE:GREGORIAN
METHOD:PUBLISH
X-WR-CALNAME:Lucky C Auctions
X-ORIGINAL-URL:http://www.luckycauctions.com
X-WR-CALDESC:Events for Lucky C Auctions
BEGIN:VEVENT
DTSTART;TZID=America/Denver:20200215T080000
DTEND;TZID=America/Denver:20200227T190000
DTSTAMP:20260424T130334
CREATED:20200216T023941Z
LAST-MODIFIED:20200216T024105Z
UID:896-1581753600-1582830000@www.luckycauctions.com
SUMMARY:Online Farm Estate Auction 2/27
DESCRIPTION:Begins Closing Feb 27th at 7PM \nPreview: Feb 27th 12-6PM \nPickup: Feb 28th 10am to 5PM \n
URL:http://www.luckycauctions.com/auction/online-farm-estate-auction-2-27/
END:VEVENT
END:VCALENDAR