BEGIN:VCALENDAR
VERSION:2.0
PRODID:-//Lucky C Auctions - ECPv4.6.9//NONSGML v1.0//EN
CALSCALE:GREGORIAN
METHOD:PUBLISH
X-WR-CALNAME:Lucky C Auctions
X-ORIGINAL-URL:http://www.luckycauctions.com
X-WR-CALDESC:Events for Lucky C Auctions
BEGIN:VEVENT
DTSTART;TZID=America/Denver:20180220T080000
DTEND;TZID=America/Denver:20180307T190000
DTSTAMP:20260425T034035
CREATED:20180221T030918Z
LAST-MODIFIED:20180221T030918Z
UID:674-1519113600-1520449200@www.luckycauctions.com
SUMMARY:Online Full Estate Auction 3/7
DESCRIPTION:Begins Closing March 7th at 7PM\n Preview March 7th 12-6PM\n Pickup March 8th 12-7PM Only We can Only Offer a One Day Pickup! This is Not at Our Location- \nLocated in Nampa- Address Released at 8am March 7th \n
URL:http://www.luckycauctions.com/auction/online-full-estate-auction-3-7/
END:VEVENT
END:VCALENDAR