BEGIN:VCALENDAR
VERSION:2.0
PRODID:-//Lucky C Auctions - ECPv4.6.9//NONSGML v1.0//EN
CALSCALE:GREGORIAN
METHOD:PUBLISH
X-WR-CALNAME:Lucky C Auctions
X-ORIGINAL-URL:http://www.luckycauctions.com
X-WR-CALDESC:Events for Lucky C Auctions
BEGIN:VEVENT
DTSTART;TZID=America/Denver:20210831T080000
DTEND;TZID=America/Denver:20210908T190000
DTSTAMP:20260424T053548
CREATED:20210901T024017Z
LAST-MODIFIED:20210901T024047Z
UID:1092-1630396800-1631127600@www.luckycauctions.com
SUMMARY:Online Nampa Estate Auction 9/8
DESCRIPTION:Online Nampa Estate Auction 9/8: \nAuction Begins Closing Sept 8th at 7PM \nPreview: Sept 8th 2-6PM\nPickup: Sept 9th 12-7PM ONLY \nLocation: Nampa\,ID Address released at 12PM Sept 8th.  \n
URL:http://www.luckycauctions.com/auction/online-nampa-estate-auction-9-8/
END:VEVENT
END:VCALENDAR