BEGIN:VCALENDAR
VERSION:2.0
PRODID:-//Lucky C Auctions - ECPv4.6.9//NONSGML v1.0//EN
CALSCALE:GREGORIAN
METHOD:PUBLISH
X-WR-CALNAME:Lucky C Auctions
X-ORIGINAL-URL:http://www.luckycauctions.com
X-WR-CALDESC:Events for Lucky C Auctions
BEGIN:VEVENT
DTSTART;TZID=America/Denver:20240410T080000
DTEND;TZID=America/Denver:20240417T190000
DTSTAMP:20260423T160406
CREATED:20240411T024913Z
LAST-MODIFIED:20240411T024913Z
UID:1334-1712736000-1713380400@www.luckycauctions.com
SUMMARY:Online Nursery Plant Auction 4/17 @ 6PM
DESCRIPTION:Online Nursery Plant Auction 4/17 @ 6PM \nAuction Begins Closing April 17th at 6PM\nPreview: April 17th 12-6PM \nPickup: April 18th 12-7PM\, April 19th 10am to 2PM \n
URL:http://www.luckycauctions.com/auction/online-nursery-plant-auction-4-17-6pm/
END:VEVENT
END:VCALENDAR