BEGIN:VCALENDAR
VERSION:2.0
PRODID:-//Lucky C Auctions - ECPv4.6.9//NONSGML v1.0//EN
CALSCALE:GREGORIAN
METHOD:PUBLISH
X-WR-CALNAME:Lucky C Auctions
X-ORIGINAL-URL:http://www.luckycauctions.com
X-WR-CALDESC:Events for Lucky C Auctions
BEGIN:VEVENT
DTSTART;TZID=America/Denver:20200527T080000
DTEND;TZID=America/Denver:20200603T190000
DTSTAMP:20260424T112003
CREATED:20200528T033005Z
LAST-MODIFIED:20200528T033005Z
UID:929-1590566400-1591210800@www.luckycauctions.com
SUMMARY:Online Nursery Plant Auction 6/3
DESCRIPTION:Online Nursery Plant Auction: \nBegins Closing June 3rd at 7PM \nPreview: June 3rd 12-6PM \nPickup: June 4th 12-7PM \nLocation: 156 S 5th St (Hwy 95) Wilder  \n
URL:http://www.luckycauctions.com/auction/online-nursery-plant-auction-6-3/
END:VEVENT
END:VCALENDAR