BEGIN:VCALENDAR
VERSION:2.0
PRODID:-//Lucky C Auctions - ECPv4.6.9//NONSGML v1.0//EN
CALSCALE:GREGORIAN
METHOD:PUBLISH
X-WR-CALNAME:Lucky C Auctions
X-ORIGINAL-URL:http://www.luckycauctions.com
X-WR-CALDESC:Events for Lucky C Auctions
BEGIN:VEVENT
DTSTART;VALUE=DATE:20200817
DTEND;VALUE=DATE:20200828
DTSTAMP:20260424T095043
CREATED:20200818T043714Z
LAST-MODIFIED:20200818T043714Z
UID:958-1597622400-1598572799@www.luckycauctions.com
SUMMARY:Online Nursery Plant Auction 8/27
DESCRIPTION:Online Nursery Plant Auction 8/27: \nAuction Begins Closing Aug 27th at 7PM \nPreview: Aug 27th 12-6PM \nPickup: Aug 28th 12-7PM \nLocation: 156 S 5th (HWY 95) Wilder  \n
URL:http://www.luckycauctions.com/auction/online-nursery-plant-auction-8-27/
END:VEVENT
END:VCALENDAR