BEGIN:VCALENDAR
VERSION:2.0
PRODID:-//Lucky C Auctions - ECPv4.6.9//NONSGML v1.0//EN
CALSCALE:GREGORIAN
METHOD:PUBLISH
X-WR-CALNAME:Lucky C Auctions
X-ORIGINAL-URL:http://www.luckycauctions.com
X-WR-CALDESC:Events for Lucky C Auctions
BEGIN:VEVENT
DTSTART;TZID=America/Denver:20200615T080000
DTEND;TZID=America/Denver:20200624T190000
DTSTAMP:20260424T112105
CREATED:20200616T050350Z
LAST-MODIFIED:20200616T050418Z
UID:938-1592208000-1593025200@www.luckycauctions.com
SUMMARY:Online Ontario Estate Auction 6/24
DESCRIPTION:Online Ontario Estate Auction 6/24: \nAuction Begins Closing June 24th at 7PM \nPreview: June 24th 12-6PM \nPickup: June 25th 12-7PM \nLocation: Ontario\, OR . Address Updated on info of auction lot #1 on June 24th at 9am. \n  \n
URL:http://www.luckycauctions.com/auction/online-ontario-estate-auction-6-24/
END:VEVENT
END:VCALENDAR