BEGIN:VCALENDAR
VERSION:2.0
PRODID:-//Lucky C Auctions - ECPv4.6.9//NONSGML v1.0//EN
CALSCALE:GREGORIAN
METHOD:PUBLISH
X-WR-CALNAME:Lucky C Auctions
X-ORIGINAL-URL:http://www.luckycauctions.com
X-WR-CALDESC:Events for Lucky C Auctions
BEGIN:VEVENT
DTSTART;TZID=America/Denver:20210716T080000
DTEND;TZID=America/Denver:20210728T190000
DTSTAMP:20260424T070351
CREATED:20210717T045653Z
LAST-MODIFIED:20210717T045653Z
UID:1044-1626422400-1627498800@www.luckycauctions.com
SUMMARY:Online Ontario Estate Auction 7/28
DESCRIPTION:Online Ontario Estate Auction 7/28: \nAuction Begins Closing July 28th at 7PM \nPreview: July 28th 12-6PM \nPickup: July 29th 12-7PM ONLY  \n
URL:http://www.luckycauctions.com/auction/online-ontario-estate-auction-7-28/
END:VEVENT
END:VCALENDAR