BEGIN:VCALENDAR
VERSION:2.0
PRODID:-//Lucky C Auctions - ECPv4.6.9//NONSGML v1.0//EN
CALSCALE:GREGORIAN
METHOD:PUBLISH
X-WR-CALNAME:Lucky C Auctions
X-ORIGINAL-URL:http://www.luckycauctions.com
X-WR-CALDESC:Events for Lucky C Auctions
BEGIN:VEVENT
DTSTART;TZID=America/Denver:20231003T080000
DTEND;TZID=America/Denver:20231011T190000
DTSTAMP:20260423T195544
CREATED:20231004T015732Z
LAST-MODIFIED:20231004T015810Z
UID:1288-1696320000-1697050800@www.luckycauctions.com
SUMMARY:Online Parma Estat Auction 10/11
DESCRIPTION:Online Parma Estate Auction 10/11 \nAuction Begins Closing Oct 11th at 7PM\nPreview: Oct 11th 11am to 3PM \nPickup: Oct 12th 12-7PM ONLY!  \nLocation: Parma\, ID  \n  \n
URL:http://www.luckycauctions.com/auction/online-parma-estat-auction-10-11/
END:VEVENT
END:VCALENDAR