BEGIN:VCALENDAR
VERSION:2.0
PRODID:-//Lucky C Auctions - ECPv4.6.9//NONSGML v1.0//EN
CALSCALE:GREGORIAN
METHOD:PUBLISH
X-WR-CALNAME:Lucky C Auctions
X-ORIGINAL-URL:http://www.luckycauctions.com
X-WR-CALDESC:Events for Lucky C Auctions
BEGIN:VEVENT
DTSTART;TZID=America/Denver:20250305T080000
DTEND;TZID=America/Denver:20250312T170000
DTSTAMP:20260423T155813
CREATED:20250306T034840Z
LAST-MODIFIED:20250306T034929Z
UID:1378-1741161600-1741798800@www.luckycauctions.com
SUMMARY:Ontario Estate Online Auction 3/12
DESCRIPTION:Ontario Estate Online Auction 3/12 \nAuction Begins Closing March 12th at 7pm \nPreview March 12th 12-3PM \nPickup: March 13th 11am to 6pm \nLocation: to be released March 12th at 11am  \n
URL:http://www.luckycauctions.com/auction/ontario-estate-online-auction-3-12/
END:VEVENT
END:VCALENDAR