BEGIN:VCALENDAR
VERSION:2.0
PRODID:-//Lucky C Auctions - ECPv4.6.9//NONSGML v1.0//EN
CALSCALE:GREGORIAN
METHOD:PUBLISH
X-WR-CALNAME:Lucky C Auctions
X-ORIGINAL-URL:http://www.luckycauctions.com
X-WR-CALDESC:Events for Lucky C Auctions
BEGIN:VEVENT
DTSTART;TZID=America/Denver:20240516T080000
DTEND;TZID=America/Denver:20240605T190000
DTSTAMP:20260423T160438
CREATED:20240517T033458Z
LAST-MODIFIED:20240517T033517Z
UID:1349-1715846400-1717614000@www.luckycauctions.com
SUMMARY:Sand Hollow Estate Online Auction 6/5
DESCRIPTION:Sand Hollow Estate Online Auction 6/5 \nAuction Begins Closing June 5th at 7PM \nPreview: June 5th 11am to 2PM \nPickup: June 6th 11am to 6PM \nLocation: Sand Hollow\, ID address to be released \n
URL:http://www.luckycauctions.com/auction/sand-hollow-estate-online-auction-6-5/
END:VEVENT
END:VCALENDAR