BEGIN:VCALENDAR
VERSION:2.0
PRODID:-//Lucky C Auctions - ECPv4.6.9//NONSGML v1.0//EN
CALSCALE:GREGORIAN
METHOD:PUBLISH
X-WR-CALNAME:Lucky C Auctions
X-ORIGINAL-URL:http://www.luckycauctions.com
X-WR-CALDESC:Events for Lucky C Auctions
BEGIN:VEVENT
DTSTART;TZID=America/Denver:20190918T080000
DTEND;TZID=America/Denver:20190925T190000
DTSTAMP:20260424T144105
CREATED:20190918T171037Z
LAST-MODIFIED:20190918T171037Z
UID:858-1568793600-1569438000@www.luckycauctions.com
SUMMARY:Store Closing Online Auction 9/25
DESCRIPTION:Small Wilder Store Closing Online Auction \nBegins Closing Sept 25th at 7PM \nPreview: Sept 25th 12-6PM\nPickup: Sept 26th 12-7PM \n
URL:http://www.luckycauctions.com/auction/store-closing-online-auction-9-25/
END:VEVENT
END:VCALENDAR