BEGIN:VCALENDAR
VERSION:2.0
PRODID:-//Lucky C Auctions - ECPv4.6.9//NONSGML v1.0//EN
CALSCALE:GREGORIAN
METHOD:PUBLISH
X-WR-CALNAME:Lucky C Auctions
X-ORIGINAL-URL:http://www.luckycauctions.com
X-WR-CALDESC:Events for Lucky C Auctions
BEGIN:VEVENT
DTSTART;TZID=America/Denver:20160210T080000
DTEND;TZID=America/Denver:20160309T190000
DTSTAMP:20260422T073513
CREATED:20160210T040740Z
LAST-MODIFIED:20160210T040740Z
UID:300-1455091200-1457550000@www.luckycauctions.com
SUMMARY:Tack & Open Consignment Auction
DESCRIPTION:Preview Date/Time: March 9th from 12-6PM Checkout Date/Time: March 10th from 12-7PM \nLocation: 220 B Ave\, Wilder\, ID 83676 \nBuyers Premium: 13%BP\, 10% for cash/check  \n
URL:http://www.luckycauctions.com/auction/tack-open-consignment-auction/
LOCATION:156 S 5th St (Hwy 95)\, Wilder\, ID\, 83676\, United States
END:VEVENT
END:VCALENDAR