BEGIN:VCALENDAR
VERSION:2.0
PRODID:-//Lucky C Auctions - ECPv4.6.9//NONSGML v1.0//EN
CALSCALE:GREGORIAN
METHOD:PUBLISH
X-WR-CALNAME:Lucky C Auctions
X-ORIGINAL-URL:http://www.luckycauctions.com
X-WR-CALDESC:Events for Lucky C Auctions
BEGIN:VEVENT
DTSTART;TZID=America/Denver:20160514T100000
DTEND;TZID=America/Denver:20160514T170000
DTSTAMP:20260422T042422
CREATED:20160312T041758Z
LAST-MODIFIED:20160312T041758Z
UID:312-1463220000-1463245200@www.luckycauctions.com
SUMMARY:Ten Mile Riding Club Tack Auction
DESCRIPTION: \n
URL:http://www.luckycauctions.com/auction/ten-mile-riding-club-tack-auction/
LOCATION:Just East of Eagle Rd. on Columbia Rd. \, Boise\, ID\, United States
END:VEVENT
END:VCALENDAR