BEGIN:VCALENDAR
VERSION:2.0
PRODID:-//Lucky C Auctions - ECPv4.6.9//NONSGML v1.0//EN
CALSCALE:GREGORIAN
METHOD:PUBLISH
X-WR-CALNAME:Lucky C Auctions
X-ORIGINAL-URL:http://www.luckycauctions.com
X-WR-CALDESC:Events for Lucky C Auctions
BEGIN:VEVENT
DTSTART;TZID=America/Denver:20180120T080000
DTEND;TZID=America/Denver:20180131T170000
DTSTAMP:20260424T202908
CREATED:20180120T222906Z
LAST-MODIFIED:20180120T222906Z
UID:656-1516435200-1517418000@www.luckycauctions.com
SUMMARY:Wedding Business Liquidation Part Two 1/31
DESCRIPTION:Begins Closing Jan 31 @5PM\nPreview: Jan 31st 12-6PM or By Appointment- 208-740-4160\nPickup: Feb 1st 12-7PM Only Unless Arraignments Have Been Made \n
URL:http://www.luckycauctions.com/auction/wedding-business-liquidation-part-two-1-31/
LOCATION:156 S 5th St (Hwy 95)\, Wilder\, ID\, 83676\, United States
END:VEVENT
END:VCALENDAR